BEGIN:VCALENDAR
VERSION:2.0
PRODID:-//Aquatique Moto-Club - ECPv6.15.20//NONSGML v1.0//EN
CALSCALE:GREGORIAN
METHOD:PUBLISH
X-ORIGINAL-URL:https://aquatiquemc.fr
X-WR-CALDESC:Évènements pour Aquatique Moto-Club
REFRESH-INTERVAL;VALUE=DURATION:PT1H
X-Robots-Tag:noindex
X-PUBLISHED-TTL:PT1H
BEGIN:VTIMEZONE
TZID:Europe/Paris
BEGIN:DAYLIGHT
TZOFFSETFROM:+0100
TZOFFSETTO:+0200
TZNAME:CEST
DTSTART:20250330T010000
END:DAYLIGHT
BEGIN:STANDARD
TZOFFSETFROM:+0200
TZOFFSETTO:+0100
TZNAME:CET
DTSTART:20251026T010000
END:STANDARD
BEGIN:DAYLIGHT
TZOFFSETFROM:+0100
TZOFFSETTO:+0200
TZNAME:CEST
DTSTART:20260329T010000
END:DAYLIGHT
BEGIN:STANDARD
TZOFFSETFROM:+0200
TZOFFSETTO:+0100
TZNAME:CET
DTSTART:20261025T010000
END:STANDARD
BEGIN:DAYLIGHT
TZOFFSETFROM:+0100
TZOFFSETTO:+0200
TZNAME:CEST
DTSTART:20270328T010000
END:DAYLIGHT
BEGIN:STANDARD
TZOFFSETFROM:+0200
TZOFFSETTO:+0100
TZNAME:CET
DTSTART:20271031T010000
END:STANDARD
END:VTIMEZONE
BEGIN:VEVENT
DTSTART;VALUE=DATE:20260420
DTEND;VALUE=DATE:20260423
DTSTAMP:20260422T011054
CREATED:20260325T123316Z
LAST-MODIFIED:20260325T125317Z
UID:241873-1776643200-1776902399@aquatiquemc.fr
SUMMARY:L'aquatique fait du cerf volant à Berck
DESCRIPTION:Bonjour à tous 😊\nComme notre club compte environ 50 % de retraités\, Aline et moi vous proposons une petite escapade en semaine pour aller voir les Rencontres Internationales de Cerfs-Volants à Berck-sur-Mer\, du lundi 20 au mercredi 22 avril 🪁\nMais rassurez-vous : les actifs sont évidemment les bienvenus ! On ne pratique aucune discrimination… surtout quand il s’agit de regarder de beaux cerfs-volants dans le ciel 😄\n👉 Infos sur l’événement : https://www.cerf-volant-berck.com/\n🏡 Hébergement prévu en gîte (4 à 5 chambres maximum) pour garder une ambiance conviviale.\nAu plaisir de partager ce moment ensemble… et de prendre un bon bol d’air marin !
URL:https://aquatiquemc.fr/event/laquatique-fait-du-cerf-volant-a-berck/
LOCATION:Berck plage\, Espace Parmentier\, Berck\, 62600
CATEGORIES:2026,Séjour moto,Virée moto
ATTACH;FMTTYPE=image/jpeg:https://aquatiquemc.fr/wp-content/uploads/2026/03/Berck-2026.jpg
END:VEVENT
END:VCALENDAR