BEGIN:VCALENDAR
VERSION:2.0
PRODID:-//Aquatique Moto-Club - ECPv6.15.20//NONSGML v1.0//EN
CALSCALE:GREGORIAN
METHOD:PUBLISH
X-WR-CALNAME:Aquatique Moto-Club
X-ORIGINAL-URL:https://aquatiquemc.fr
X-WR-CALDESC:Évènements pour Aquatique Moto-Club
REFRESH-INTERVAL;VALUE=DURATION:PT1H
X-Robots-Tag:noindex
X-PUBLISHED-TTL:PT1H
BEGIN:VTIMEZONE
TZID:Europe/Paris
BEGIN:DAYLIGHT
TZOFFSETFROM:+0100
TZOFFSETTO:+0200
TZNAME:CEST
DTSTART:20240331T010000
END:DAYLIGHT
BEGIN:STANDARD
TZOFFSETFROM:+0200
TZOFFSETTO:+0100
TZNAME:CET
DTSTART:20241027T010000
END:STANDARD
BEGIN:DAYLIGHT
TZOFFSETFROM:+0100
TZOFFSETTO:+0200
TZNAME:CEST
DTSTART:20250330T010000
END:DAYLIGHT
BEGIN:STANDARD
TZOFFSETFROM:+0200
TZOFFSETTO:+0100
TZNAME:CET
DTSTART:20251026T010000
END:STANDARD
BEGIN:DAYLIGHT
TZOFFSETFROM:+0100
TZOFFSETTO:+0200
TZNAME:CEST
DTSTART:20260329T010000
END:DAYLIGHT
BEGIN:STANDARD
TZOFFSETFROM:+0200
TZOFFSETTO:+0100
TZNAME:CET
DTSTART:20261025T010000
END:STANDARD
END:VTIMEZONE
BEGIN:VEVENT
DTSTART;VALUE=DATE:20251206
DTEND;VALUE=DATE:20251207
DTSTAMP:20260422T055756
CREATED:20250902T164623Z
LAST-MODIFIED:20251110T174745Z
UID:240643-1764979200-1765065599@aquatiquemc.fr
SUMMARY:Balade hivernale des aquatiques
DESCRIPTION:Comme chaque année\, des irréductibles de l’Aquatique bravent les éléments pour une sympathique balade.\nC’est l’occasion de se retrouver en cette périodes où peu de moto circulent.
URL:https://aquatiquemc.fr/event/balade-hivernale-des-aquatiques/
CATEGORIES:2025,Virée moto
ATTACH;FMTTYPE=image/jpeg:https://aquatiquemc.fr/wp-content/uploads/2025/09/hivernale-2025.jpg
END:VEVENT
END:VCALENDAR