BEGIN:VCALENDAR
VERSION:2.0
PRODID:-//Aquatique Moto-Club - ECPv6.15.20//NONSGML v1.0//EN
CALSCALE:GREGORIAN
METHOD:PUBLISH
X-WR-CALNAME:Aquatique Moto-Club
X-ORIGINAL-URL:https://aquatiquemc.fr
X-WR-CALDESC:Évènements pour Aquatique Moto-Club
REFRESH-INTERVAL;VALUE=DURATION:PT1H
X-Robots-Tag:noindex
X-PUBLISHED-TTL:PT1H
BEGIN:VTIMEZONE
TZID:Europe/Paris
BEGIN:DAYLIGHT
TZOFFSETFROM:+0100
TZOFFSETTO:+0200
TZNAME:CEST
DTSTART:20250330T010000
END:DAYLIGHT
BEGIN:STANDARD
TZOFFSETFROM:+0200
TZOFFSETTO:+0100
TZNAME:CET
DTSTART:20251026T010000
END:STANDARD
BEGIN:DAYLIGHT
TZOFFSETFROM:+0100
TZOFFSETTO:+0200
TZNAME:CEST
DTSTART:20260329T010000
END:DAYLIGHT
BEGIN:STANDARD
TZOFFSETFROM:+0200
TZOFFSETTO:+0100
TZNAME:CET
DTSTART:20261025T010000
END:STANDARD
BEGIN:DAYLIGHT
TZOFFSETFROM:+0100
TZOFFSETTO:+0200
TZNAME:CEST
DTSTART:20270328T010000
END:DAYLIGHT
BEGIN:STANDARD
TZOFFSETFROM:+0200
TZOFFSETTO:+0100
TZNAME:CET
DTSTART:20271031T010000
END:STANDARD
END:VTIMEZONE
BEGIN:VEVENT
DTSTART;VALUE=DATE:20260706
DTEND;VALUE=DATE:20260710
DTSTAMP:20260421T235245
CREATED:20260302T200547Z
LAST-MODIFIED:20260302T205344Z
UID:241819-1783296000-1783641599@aquatiquemc.fr
SUMMARY:Le Morvan avec l'Aquatique
DESCRIPTION:Claude et Martine nous font découvrir le Morvan en ce début juillet. \nje vous propose une balade de 4 jours du lundi 06 au jeudi 09 juillet dans le massif du Morvan/Bourgogne. Hébergement dans un endroit exceptionnel au https://chateaudemillery.fr/ pouvant accueillir jusqu’à 14 personnes. Soit (en + de Martine et moi) 3 autres chambres pour couples et un loft pour 5 personnes maxi. Il s’agit en effet\, d’un espace ouvert de 60m2\, avec chambres cloisonnées fermées simplement avec des rideaux (gare à vous les ronfleurs) et comprenant 1 lit de 160 (pour 1 personne ou 1 couple)\, 1 de 140 (pour 1 personne ou 1 couple)\, 1 de 120 et 1 clic-clac de 140 avec literie grand confort. Grâce à un lien « de cousinage » avec les propriétaires\, le prix par nuit\, petit déjeuner inclus\, ne sera que de 40€ par personne. Option possible de dîner\, avec entrée\, plat\, fromage et dessert ou BBQ si la météo le permet\, pour 22€ par personne. Parking couvert pour motos. Pour les inscriptions\, je créerai demain le groupe « Morvan 2026 »
URL:https://aquatiquemc.fr/event/le-morvan-avec-laquatique/
LOCATION:Chateau de Millery\, 3486 Rte du Bois Doré\, Saint-Forgeot\, 71400\, France
CATEGORIES:2026,Séjour moto
ATTACH;FMTTYPE=image/gif:https://aquatiquemc.fr/wp-content/uploads/2026/03/Morvan2.gif
END:VEVENT
BEGIN:VEVENT
DTSTART;VALUE=DATE:20260711
DTEND;VALUE=DATE:20260715
DTSTAMP:20260421T235246
CREATED:20260302T131108Z
LAST-MODIFIED:20260303T165650Z
UID:241814-1783728000-1784073599@aquatiquemc.fr
SUMMARY:La vallée de la Loire
DESCRIPTION:Christophe nous emmène en vallée de Loire pour le weekend du 14 juillet. \nAttention\, c’est un weekend exclusivement camping sous toile. Chacun amène sa tente\, les réservations en dur ne sont pas acceptées. \n 
URL:https://aquatiquemc.fr/event/la-vallee-de-la-loire/
LOCATION:Camping de mars\, 444 Route du Camping\, Cordelle\, 42123
CATEGORIES:2026,Séjour moto
ATTACH;FMTTYPE=image/gif:https://aquatiquemc.fr/wp-content/uploads/2026/03/Loire.gif
END:VEVENT
END:VCALENDAR