BEGIN:VCALENDAR
VERSION:2.0
PRODID:-//Aquatique Moto-Club - ECPv6.15.20//NONSGML v1.0//EN
CALSCALE:GREGORIAN
METHOD:PUBLISH
X-WR-CALNAME:Aquatique Moto-Club
X-ORIGINAL-URL:https://aquatiquemc.fr
X-WR-CALDESC:Évènements pour Aquatique Moto-Club
REFRESH-INTERVAL;VALUE=DURATION:PT1H
X-Robots-Tag:noindex
X-PUBLISHED-TTL:PT1H
BEGIN:VTIMEZONE
TZID:Europe/Paris
BEGIN:DAYLIGHT
TZOFFSETFROM:+0100
TZOFFSETTO:+0200
TZNAME:CEST
DTSTART:20240331T010000
END:DAYLIGHT
BEGIN:STANDARD
TZOFFSETFROM:+0200
TZOFFSETTO:+0100
TZNAME:CET
DTSTART:20241027T010000
END:STANDARD
BEGIN:DAYLIGHT
TZOFFSETFROM:+0100
TZOFFSETTO:+0200
TZNAME:CEST
DTSTART:20250330T010000
END:DAYLIGHT
BEGIN:STANDARD
TZOFFSETFROM:+0200
TZOFFSETTO:+0100
TZNAME:CET
DTSTART:20251026T010000
END:STANDARD
BEGIN:DAYLIGHT
TZOFFSETFROM:+0100
TZOFFSETTO:+0200
TZNAME:CEST
DTSTART:20260329T010000
END:DAYLIGHT
BEGIN:STANDARD
TZOFFSETFROM:+0200
TZOFFSETTO:+0100
TZNAME:CET
DTSTART:20261025T010000
END:STANDARD
END:VTIMEZONE
BEGIN:VEVENT
DTSTART;VALUE=DATE:20250706
DTEND;VALUE=DATE:20250714
DTSTAMP:20260422T073912
CREATED:20250302T181435Z
LAST-MODIFIED:20250706T091446Z
UID:240354-1751760000-1752451199@aquatiquemc.fr
SUMMARY:L'Aquatique en Auvergne
DESCRIPTION:Bonjour tout le monde\, je propose une sortie du 7 au 13 juillet 2025 : découverte touristique de l’Auvergne avec un logement pour la durée du séjour en mobile home à Murol. \nLe descriptif complet est ici Auvergne 2025 (3)
URL:https://aquatiquemc.fr/event/laquatique-en-auvergne/
LOCATION:Murol\, Murol\, 63790\, France
CATEGORIES:2025,Séjour moto
ATTACH;FMTTYPE=image/jpeg:https://aquatiquemc.fr/wp-content/uploads/2025/03/Auvergne.jpg
END:VEVENT
BEGIN:VEVENT
DTSTART;VALUE=DATE:20250726
DTEND;VALUE=DATE:20250804
DTSTAMP:20260422T073912
CREATED:20241210T173350Z
LAST-MODIFIED:20250718T102205Z
UID:239964-1753488000-1754265599@aquatiquemc.fr
SUMMARY:Les Alpes du coté Suisse
DESCRIPTION:Hello tous.\nDenis\, notre « petit » Suisse\, nous propose de nous faire découvrir sa Suisse natale l’année prochaine du 26 juillet au 2 août. Sachant que le 1 août c’est la fête nationale.\nEn photos précédentes vous avez les hébergements qui se trouvent à Leysin. Des chalets de 2 chambres.\nDenis a trouvé ce logement d’un bon rapport qualité et surtout prix sachant qu’en Suisse les prix sont bien plus élevés qu’en France. Sans oublier l’essence et la nourriture. \nLa présentation est ici Présentation sortie Suisse \nLe chiffrage est ici Budget
URL:https://aquatiquemc.fr/event/les-alpes-du-cote-suisse/
LOCATION:Alpes suisses\, Route de Plan Praz\, Leysin\, 1854\, Switzerland
CATEGORIES:2025,Séjour moto
ATTACH;FMTTYPE=image/gif:https://aquatiquemc.fr/wp-content/uploads/2025/01/alpes-moto5-1.gif
END:VEVENT
END:VCALENDAR