BEGIN:VCALENDAR
VERSION:2.0
PRODID:-//Aquatique Moto-Club - ECPv6.15.20//NONSGML v1.0//EN
CALSCALE:GREGORIAN
METHOD:PUBLISH
X-WR-CALNAME:Aquatique Moto-Club
X-ORIGINAL-URL:https://aquatiquemc.fr
X-WR-CALDESC:Évènements pour Aquatique Moto-Club
REFRESH-INTERVAL;VALUE=DURATION:PT1H
X-Robots-Tag:noindex
X-PUBLISHED-TTL:PT1H
BEGIN:VTIMEZONE
TZID:Europe/Paris
BEGIN:DAYLIGHT
TZOFFSETFROM:+0100
TZOFFSETTO:+0200
TZNAME:CEST
DTSTART:20250330T010000
END:DAYLIGHT
BEGIN:STANDARD
TZOFFSETFROM:+0200
TZOFFSETTO:+0100
TZNAME:CET
DTSTART:20251026T010000
END:STANDARD
BEGIN:DAYLIGHT
TZOFFSETFROM:+0100
TZOFFSETTO:+0200
TZNAME:CEST
DTSTART:20260329T010000
END:DAYLIGHT
BEGIN:STANDARD
TZOFFSETFROM:+0200
TZOFFSETTO:+0100
TZNAME:CET
DTSTART:20261025T010000
END:STANDARD
BEGIN:DAYLIGHT
TZOFFSETFROM:+0100
TZOFFSETTO:+0200
TZNAME:CEST
DTSTART:20270328T010000
END:DAYLIGHT
BEGIN:STANDARD
TZOFFSETFROM:+0200
TZOFFSETTO:+0100
TZNAME:CET
DTSTART:20271031T010000
END:STANDARD
END:VTIMEZONE
BEGIN:VEVENT
DTSTART;TZID=Europe/Paris:20260206T200000
DTEND;TZID=Europe/Paris:20260206T223000
DTSTAMP:20260421T214751
CREATED:20250415T145136Z
LAST-MODIFIED:20250903T094428Z
UID:240462-1770408000-1770417000@aquatiquemc.fr
SUMMARY:Permanence du club
DESCRIPTION:A 20h00 à Montlhéry à la salle des conférences sous la salle George Brassens dans la rue de la chapelle à côté de l’ancienne mairie de Montlhéry.Cette permanence pour les membres du moto club est aussi accessible au sympathisants qui sont sur la liste de diffusion. \nC’est un moment privilégié pour venir échanger et découvrir le moto club. \nComme d’habitude\, chacun amène un petit quelque chose à manger que nous partagerons à la fin de la permanence.
URL:https://aquatiquemc.fr/event/permanence-du-club-24/
LOCATION:salle des conférences George BRASSENS\, monthlery\, France
CATEGORIES:Permanence
ATTACH;FMTTYPE=image/png:https://aquatiquemc.fr/wp-content/uploads/2023/04/cropped-logo-motoclub-Canva.png
END:VEVENT
BEGIN:VEVENT
DTSTART;TZID=Europe/Paris:20260227T194500
DTEND;TZID=Europe/Paris:20260227T230000
DTSTAMP:20260421T214751
CREATED:20251206T113936Z
LAST-MODIFIED:20251209T102245Z
UID:241601-1772221500-1772233200@aquatiquemc.fr
SUMMARY:Assemblée générale du motoclub
DESCRIPTION:Après l’AG\, comme pour une permanence\, nous partagerons un petit quelque chose à manger ou à boire que vous aurez bien voulu apporter.
URL:https://aquatiquemc.fr/event/assemblee-generale-du-motoclub/
LOCATION:salle des conférences George BRASSENS\, monthlery\, France
CATEGORIES:2026,Assemblée générale,Permanence
ATTACH;FMTTYPE=image/png:https://aquatiquemc.fr/wp-content/uploads/2024/09/assemblee-generale.png
END:VEVENT
END:VCALENDAR