BEGIN:VCALENDAR
VERSION:2.0
PRODID:-//Aquatique Moto-Club - ECPv6.15.20//NONSGML v1.0//EN
CALSCALE:GREGORIAN
METHOD:PUBLISH
X-ORIGINAL-URL:https://aquatiquemc.fr
X-WR-CALDESC:Évènements pour Aquatique Moto-Club
REFRESH-INTERVAL;VALUE=DURATION:PT1H
X-Robots-Tag:noindex
X-PUBLISHED-TTL:PT1H
BEGIN:VTIMEZONE
TZID:Europe/Paris
BEGIN:DAYLIGHT
TZOFFSETFROM:+0100
TZOFFSETTO:+0200
TZNAME:CEST
DTSTART:20250330T010000
END:DAYLIGHT
BEGIN:STANDARD
TZOFFSETFROM:+0200
TZOFFSETTO:+0100
TZNAME:CET
DTSTART:20251026T010000
END:STANDARD
BEGIN:DAYLIGHT
TZOFFSETFROM:+0100
TZOFFSETTO:+0200
TZNAME:CEST
DTSTART:20260329T010000
END:DAYLIGHT
BEGIN:STANDARD
TZOFFSETFROM:+0200
TZOFFSETTO:+0100
TZNAME:CET
DTSTART:20261025T010000
END:STANDARD
BEGIN:DAYLIGHT
TZOFFSETFROM:+0100
TZOFFSETTO:+0200
TZNAME:CEST
DTSTART:20270328T010000
END:DAYLIGHT
BEGIN:STANDARD
TZOFFSETFROM:+0200
TZOFFSETTO:+0100
TZNAME:CET
DTSTART:20271031T010000
END:STANDARD
END:VTIMEZONE
BEGIN:VEVENT
DTSTART;TZID=Europe/Paris:20260109T200000
DTEND;TZID=Europe/Paris:20260109T220000
DTSTAMP:20260421T233032
CREATED:20250902T173547Z
LAST-MODIFIED:20260104T203848Z
UID:240655-1767988800-1767996000@aquatiquemc.fr
SUMMARY:Concours de galette
DESCRIPTION:Petit rappel de notre permanence pour le vendredi 9 JANVIER \nEt puisqu’il sera le moment de troquer temporairement les casques contre les couronnes 👑\, notre permanence sera suivie de notre désormais célèbre grand concours de galettes\n🎯 Objectif : élire LA galette suprême du Moto Club\nQue vous soyez :\nas de la frangipane\,\nmaître incontesté(e) de la pâte feuilletée\,\nou simple tricheur(se) assumé(e) avec une galette de chez le pâtissier (on ne saura pas… trop)\,\nvous êtes chaleureusement invité(e) à participer\n🏆 Récompense : la gloire éternelle\, une couronne (en carton) et l’admiration du club (au moins jusqu’à l’année prochaine).\nÀ vos rouleaux\, à vos amandes… et que la meilleure galette gagne !\nTrès belles fêtes de fin d’année\nChrystell
URL:https://aquatiquemc.fr/event/concours-de-galette/
LOCATION:maison des associations\, 14 Rue de la Chapelle\, Montlhery\, 91310\, France
CATEGORIES:2026,Permanence,Soirée
ATTACH;FMTTYPE=image/gif:https://aquatiquemc.fr/wp-content/uploads/2025/01/Galette3-1.gif
END:VEVENT
END:VCALENDAR