BEGIN:VCALENDAR
VERSION:2.0
PRODID:-//Aquatique Moto-Club - ECPv6.15.20//NONSGML v1.0//EN
CALSCALE:GREGORIAN
METHOD:PUBLISH
X-WR-CALNAME:Aquatique Moto-Club
X-ORIGINAL-URL:https://aquatiquemc.fr
X-WR-CALDESC:Évènements pour Aquatique Moto-Club
REFRESH-INTERVAL;VALUE=DURATION:PT1H
X-Robots-Tag:noindex
X-PUBLISHED-TTL:PT1H
BEGIN:VTIMEZONE
TZID:Europe/Paris
BEGIN:DAYLIGHT
TZOFFSETFROM:+0100
TZOFFSETTO:+0200
TZNAME:CEST
DTSTART:20240331T010000
END:DAYLIGHT
BEGIN:STANDARD
TZOFFSETFROM:+0200
TZOFFSETTO:+0100
TZNAME:CET
DTSTART:20241027T010000
END:STANDARD
BEGIN:DAYLIGHT
TZOFFSETFROM:+0100
TZOFFSETTO:+0200
TZNAME:CEST
DTSTART:20250330T010000
END:DAYLIGHT
BEGIN:STANDARD
TZOFFSETFROM:+0200
TZOFFSETTO:+0100
TZNAME:CET
DTSTART:20251026T010000
END:STANDARD
BEGIN:DAYLIGHT
TZOFFSETFROM:+0100
TZOFFSETTO:+0200
TZNAME:CEST
DTSTART:20260329T010000
END:DAYLIGHT
BEGIN:STANDARD
TZOFFSETFROM:+0200
TZOFFSETTO:+0100
TZNAME:CET
DTSTART:20261025T010000
END:STANDARD
END:VTIMEZONE
BEGIN:VEVENT
DTSTART;TZID=Europe/Paris:20251107T193000
DTEND;TZID=Europe/Paris:20251107T223000
DTSTAMP:20260422T023037
CREATED:20250415T143808Z
LAST-MODIFIED:20251029T133910Z
UID:240444-1762543800-1762554600@aquatiquemc.fr
SUMMARY:Permanence du club
DESCRIPTION:A 19h30 à Montlhéry à la salle des conférences sous la salle George Brassens dans la rue de la chapelle à côté de l’ancienne mairie de Montlhéry.Cette permanence pour les membres du moto club est aussi accessible au sympathisants qui sont sur la liste de diffusion. \nC’est un moment privilégié pour venir échanger et découvrir le moto club. \nComme d’habitude\, chacun amène un petit quelque chose à manger que nous partagerons à la fin de la permanence.
URL:https://aquatiquemc.fr/event/permanence-du-club-17/
LOCATION:salle des conférences George BRASSENS\, monthlery\, France
CATEGORIES:2025,Permanence
ATTACH;FMTTYPE=image/gif:https://aquatiquemc.fr/wp-content/uploads/2025/04/Intervenant-assurance.gif
END:VEVENT
END:VCALENDAR