BEGIN:VCALENDAR
VERSION:2.0
PRODID:-//Aquatique Moto-Club - ECPv6.15.20//NONSGML v1.0//EN
CALSCALE:GREGORIAN
METHOD:PUBLISH
X-ORIGINAL-URL:https://aquatiquemc.fr
X-WR-CALDESC:Évènements pour Aquatique Moto-Club
REFRESH-INTERVAL;VALUE=DURATION:PT1H
X-Robots-Tag:noindex
X-PUBLISHED-TTL:PT1H
BEGIN:VTIMEZONE
TZID:Europe/Paris
BEGIN:DAYLIGHT
TZOFFSETFROM:+0100
TZOFFSETTO:+0200
TZNAME:CEST
DTSTART:20240331T010000
END:DAYLIGHT
BEGIN:STANDARD
TZOFFSETFROM:+0200
TZOFFSETTO:+0100
TZNAME:CET
DTSTART:20241027T010000
END:STANDARD
BEGIN:DAYLIGHT
TZOFFSETFROM:+0100
TZOFFSETTO:+0200
TZNAME:CEST
DTSTART:20250330T010000
END:DAYLIGHT
BEGIN:STANDARD
TZOFFSETFROM:+0200
TZOFFSETTO:+0100
TZNAME:CET
DTSTART:20251026T010000
END:STANDARD
BEGIN:DAYLIGHT
TZOFFSETFROM:+0100
TZOFFSETTO:+0200
TZNAME:CEST
DTSTART:20260329T010000
END:DAYLIGHT
BEGIN:STANDARD
TZOFFSETFROM:+0200
TZOFFSETTO:+0100
TZNAME:CET
DTSTART:20261025T010000
END:STANDARD
END:VTIMEZONE
BEGIN:VEVENT
DTSTART;TZID=Europe/Paris:20251010T200000
DTEND;TZID=Europe/Paris:20251010T223000
DTSTAMP:20260422T035248
CREATED:20250415T135618Z
LAST-MODIFIED:20250903T092917Z
UID:240427-1760126400-1760135400@aquatiquemc.fr
SUMMARY:Permanence du club
DESCRIPTION:A 20h00 à Montlhéry à la salle des conférences sous la salle George Brassens dans la rue de la chapelle à côté de l’ancienne mairie de Montlhéry.Cette permanence pour les membres du moto club est aussi accessible au sympathisants qui sont sur la liste de diffusion. \nC’est un moment privilégié pour venir échanger et découvrir le moto club. \nComme d’habitude\, chacun amène un petit quelque chose à manger que nous partagerons à la fin de la permanence.
URL:https://aquatiquemc.fr/event/permanence-du-club-9/
LOCATION:maison des associations\, 14 Rue de la Chapelle\, Montlhery\, 91310\, France
CATEGORIES:2025,Permanence
ATTACH;FMTTYPE=image/png:https://aquatiquemc.fr/wp-content/uploads/2023/04/cropped-logo-motoclub-Canva.png
END:VEVENT
END:VCALENDAR