BEGIN:VCALENDAR
VERSION:2.0
PRODID:-//Aquatique Moto-Club - ECPv6.15.20//NONSGML v1.0//EN
CALSCALE:GREGORIAN
METHOD:PUBLISH
X-WR-CALNAME:Aquatique Moto-Club
X-ORIGINAL-URL:https://aquatiquemc.fr
X-WR-CALDESC:Évènements pour Aquatique Moto-Club
REFRESH-INTERVAL;VALUE=DURATION:PT1H
X-Robots-Tag:noindex
X-PUBLISHED-TTL:PT1H
BEGIN:VTIMEZONE
TZID:Europe/Paris
BEGIN:DAYLIGHT
TZOFFSETFROM:+0100
TZOFFSETTO:+0200
TZNAME:CEST
DTSTART:20240331T010000
END:DAYLIGHT
BEGIN:STANDARD
TZOFFSETFROM:+0200
TZOFFSETTO:+0100
TZNAME:CET
DTSTART:20241027T010000
END:STANDARD
BEGIN:DAYLIGHT
TZOFFSETFROM:+0100
TZOFFSETTO:+0200
TZNAME:CEST
DTSTART:20250330T010000
END:DAYLIGHT
BEGIN:STANDARD
TZOFFSETFROM:+0200
TZOFFSETTO:+0100
TZNAME:CET
DTSTART:20251026T010000
END:STANDARD
BEGIN:DAYLIGHT
TZOFFSETFROM:+0100
TZOFFSETTO:+0200
TZNAME:CEST
DTSTART:20260329T010000
END:DAYLIGHT
BEGIN:STANDARD
TZOFFSETFROM:+0200
TZOFFSETTO:+0100
TZNAME:CET
DTSTART:20261025T010000
END:STANDARD
END:VTIMEZONE
BEGIN:VEVENT
DTSTART;VALUE=DATE:20250907
DTEND;VALUE=DATE:20250908
DTSTAMP:20260422T073624
CREATED:20250902T172039Z
LAST-MODIFIED:20250902T172039Z
UID:240649-1757203200-1757289599@aquatiquemc.fr
SUMMARY:Forum des associations àLinas
DESCRIPTION:Comme chaque année\, le motoclub participe au forum de Linas. C’est un moyen de nous faire connaitre et d’échanger avec de futures membres. \nC’est aussi une façon de participer à la vie de la commune de Linas\, partenaire de notre club.
URL:https://aquatiquemc.fr/event/forum-des-associations-alinas/
LOCATION:COSOM Linas\, 39 Rue de Carcassonne\, LIAS\, ESSONNE\, 91310\, France
CATEGORIES:2025,Evenement
ATTACH;FMTTYPE=image/jpeg:https://aquatiquemc.fr/wp-content/uploads/2025/09/FORUM_DES_ASSOS_2025_web.jpg
END:VEVENT
BEGIN:VEVENT
DTSTART;TZID=Europe/Paris:20250926T190000
DTEND;TZID=Europe/Paris:20250926T230000
DTSTAMP:20260422T073624
CREATED:20250522T210714Z
LAST-MODIFIED:20250905T170658Z
UID:240614-1758913200-1758927600@aquatiquemc.fr
SUMMARY:L'Aquatique fête la rentrée
DESCRIPTION:Boissons prises en charge par le club \nChacun apporte un grignotage apéro\, fromage ou dessert et paie sa part de paella
URL:https://aquatiquemc.fr/event/laquatique-fete-la-rentree/
LOCATION:salle des conférences George BRASSENS\, monthlery\, France
CATEGORIES:2025,Evenement
ATTACH;FMTTYPE=image/jpeg:https://aquatiquemc.fr/wp-content/uploads/2025/05/visuel-rentree-2-.jpg
END:VEVENT
END:VCALENDAR