BEGIN:VCALENDAR
VERSION:2.0
PRODID:-//Aquatique Moto-Club - ECPv6.15.20//NONSGML v1.0//EN
CALSCALE:GREGORIAN
METHOD:PUBLISH
X-ORIGINAL-URL:https://aquatiquemc.fr
X-WR-CALDESC:Évènements pour Aquatique Moto-Club
REFRESH-INTERVAL;VALUE=DURATION:PT1H
X-Robots-Tag:noindex
X-PUBLISHED-TTL:PT1H
BEGIN:VTIMEZONE
TZID:Europe/Paris
BEGIN:DAYLIGHT
TZOFFSETFROM:+0100
TZOFFSETTO:+0200
TZNAME:CEST
DTSTART:20240331T010000
END:DAYLIGHT
BEGIN:STANDARD
TZOFFSETFROM:+0200
TZOFFSETTO:+0100
TZNAME:CET
DTSTART:20241027T010000
END:STANDARD
BEGIN:DAYLIGHT
TZOFFSETFROM:+0100
TZOFFSETTO:+0200
TZNAME:CEST
DTSTART:20250330T010000
END:DAYLIGHT
BEGIN:STANDARD
TZOFFSETFROM:+0200
TZOFFSETTO:+0100
TZNAME:CET
DTSTART:20251026T010000
END:STANDARD
BEGIN:DAYLIGHT
TZOFFSETFROM:+0100
TZOFFSETTO:+0200
TZNAME:CEST
DTSTART:20260329T010000
END:DAYLIGHT
BEGIN:STANDARD
TZOFFSETFROM:+0200
TZOFFSETTO:+0100
TZNAME:CET
DTSTART:20261025T010000
END:STANDARD
END:VTIMEZONE
BEGIN:VEVENT
DTSTART;VALUE=DATE:20250806
DTEND;VALUE=DATE:20250809
DTSTAMP:20260422T091949
CREATED:20250305T214813Z
LAST-MODIFIED:20250306T074618Z
UID:240363-1754438400-1754697599@aquatiquemc.fr
SUMMARY:FIM Motocamp à Luçon
DESCRIPTION:Le 42ème FIM Motocamp 2025 est organisé par: Moto Club Luçonnais (France) \nCet évènement se tiendra du 6 août 2025 au 8 août 2025 dans le respect du Code FIM pour les Rassemblements Touristique.\nPour les participants désirant arriver plus tôt\, l’accès au camp sera possible à partir du 4 août 2025 moyennant des coûts supplémentaires.\nLe site principal de l’évènement se situe:\nGPS: 46.45647\, -1.18684\nEspace Plaisance à Luçon (France)\nPlaine du Sourdy\n85400 LUCON \nDocuments\n2025-FIM-Motocamp-EntryAccomodation-Form-Lucon_FINAL_writeable \nFIM-Motocamp-2025-reglement-particulier-FR \nFIM-Motocamp-2025-reglement-particulier-Annexe-1-FR \nLiens:\nFIM Motocamp 2025 – Moto-Club Luçon \nFIM Motocamp Luçon France | FIM \nfim-motocamp2025.com
URL:https://aquatiquemc.fr/event/fim-motocamp-a-lucon/
LOCATION:luçon\, Plaine du Sourdy\, LUCON\, 85400\, France
CATEGORIES:2025,Evenement
ATTACH;FMTTYPE=image/jpeg:https://aquatiquemc.fr/wp-content/uploads/2025/03/motocamp.jpeg
END:VEVENT
END:VCALENDAR