BEGIN:VCALENDAR
VERSION:2.0
PRODID:-//Aquatique Moto-Club - ECPv6.15.20//NONSGML v1.0//EN
CALSCALE:GREGORIAN
METHOD:PUBLISH
X-ORIGINAL-URL:https://aquatiquemc.fr
X-WR-CALDESC:Évènements pour Aquatique Moto-Club
REFRESH-INTERVAL;VALUE=DURATION:PT1H
X-Robots-Tag:noindex
X-PUBLISHED-TTL:PT1H
BEGIN:VTIMEZONE
TZID:Europe/Paris
BEGIN:DAYLIGHT
TZOFFSETFROM:+0100
TZOFFSETTO:+0200
TZNAME:CEST
DTSTART:20240331T010000
END:DAYLIGHT
BEGIN:STANDARD
TZOFFSETFROM:+0200
TZOFFSETTO:+0100
TZNAME:CET
DTSTART:20241027T010000
END:STANDARD
BEGIN:DAYLIGHT
TZOFFSETFROM:+0100
TZOFFSETTO:+0200
TZNAME:CEST
DTSTART:20250330T010000
END:DAYLIGHT
BEGIN:STANDARD
TZOFFSETFROM:+0200
TZOFFSETTO:+0100
TZNAME:CET
DTSTART:20251026T010000
END:STANDARD
BEGIN:DAYLIGHT
TZOFFSETFROM:+0100
TZOFFSETTO:+0200
TZNAME:CEST
DTSTART:20260329T010000
END:DAYLIGHT
BEGIN:STANDARD
TZOFFSETFROM:+0200
TZOFFSETTO:+0100
TZNAME:CET
DTSTART:20261025T010000
END:STANDARD
END:VTIMEZONE
BEGIN:VEVENT
DTSTART;VALUE=DATE:20250517
DTEND;VALUE=DATE:20250518
DTSTAMP:20260422T150223
CREATED:20240910T201039Z
LAST-MODIFIED:20240927T170324Z
UID:239044-1747440000-1747526399@aquatiquemc.fr
SUMMARY:JUMBO RUN CHEMEA
DESCRIPTION:Prévu initialement le 5 octobre\, c’est reporté au 16 mai. \nPour la 12 ème fois le Comité pour le Handicap Mental Enfant et Adulte organise un JUMBO RUN. \nIl s’agit de faire bénéficier des personnes en situation de handicap\, accompagnées par des personnels spécialisés\, d’une ballade motorisée sur les routes du Sud-Francilien. \nCette promenade d’environ 40 km débouchera sur un déjeuner champêtre. Dans un lieu encore à définir. \nDépart de Bourray sur Juine pour un Aller-retour jusqu’à Corbeil \nLe programme ICI 
URL:https://aquatiquemc.fr/event/jumbo-run-chemea/
LOCATION:Corbeil\, Corbeil\, 91100\, France
CATEGORIES:2024,Evenement
ATTACH;FMTTYPE=image/jpeg:https://aquatiquemc.fr/wp-content/uploads/2024/09/Jumbo-run-Chemea.jpg
END:VEVENT
END:VCALENDAR