BEGIN:VCALENDAR
VERSION:2.0
PRODID:-//Aquatique Moto-Club - ECPv6.15.20//NONSGML v1.0//EN
CALSCALE:GREGORIAN
METHOD:PUBLISH
X-WR-CALNAME:Aquatique Moto-Club
X-ORIGINAL-URL:https://aquatiquemc.fr
X-WR-CALDESC:Évènements pour Aquatique Moto-Club
REFRESH-INTERVAL;VALUE=DURATION:PT1H
X-Robots-Tag:noindex
X-PUBLISHED-TTL:PT1H
BEGIN:VTIMEZONE
TZID:Europe/Paris
BEGIN:DAYLIGHT
TZOFFSETFROM:+0100
TZOFFSETTO:+0200
TZNAME:CEST
DTSTART:20240331T010000
END:DAYLIGHT
BEGIN:STANDARD
TZOFFSETFROM:+0200
TZOFFSETTO:+0100
TZNAME:CET
DTSTART:20241027T010000
END:STANDARD
BEGIN:DAYLIGHT
TZOFFSETFROM:+0100
TZOFFSETTO:+0200
TZNAME:CEST
DTSTART:20250330T010000
END:DAYLIGHT
BEGIN:STANDARD
TZOFFSETFROM:+0200
TZOFFSETTO:+0100
TZNAME:CET
DTSTART:20251026T010000
END:STANDARD
BEGIN:DAYLIGHT
TZOFFSETFROM:+0100
TZOFFSETTO:+0200
TZNAME:CEST
DTSTART:20260329T010000
END:DAYLIGHT
BEGIN:STANDARD
TZOFFSETFROM:+0200
TZOFFSETTO:+0100
TZNAME:CET
DTSTART:20261025T010000
END:STANDARD
END:VTIMEZONE
BEGIN:VEVENT
DTSTART;VALUE=DATE:20250412
DTEND;VALUE=DATE:20250414
DTSTAMP:20260422T164921
CREATED:20250223T222940Z
LAST-MODIFIED:20250304T090610Z
UID:240294-1744416000-1744588799@aquatiquemc.fr
SUMMARY:Salon de la moto Arpajon
DESCRIPTION:La Fête de la Moto d’Arpajon 2025 !\nLe week-end du 12 et 13 avril 2025Place du Marché\, Arpajon (91)La Fête de la Moto d’Arpajon vous promet une édition exceptionnelle\, Venez découvrir les derniers modèles des motos � les Conseils personnalisés et offres exclusives des concessionnaires du secteur � Rencontres avec des passionnés de motos\, Et bien sûr\, profitez du programme incroyable de l’événement : Show FMX à couper le souffle Concert live avec HighSide Paris et Lö and the Goose Clubs\, moto-écoles\, animations et bien plus Entrée libre et gratuite\, parking moto gratuit\nRejoignez-nous pour partager ensemble la passion du deux-roues !\nNotez la date et venez vibrer avec nous.\nhttps://salondelamotodarpajon.wordpress.com/accueil/
URL:https://aquatiquemc.fr/event/salon-de-la-moto-arpajon/
LOCATION:Arpajon\, Arpajon\, 91290\, France
CATEGORIES:2025,Evenement
ATTACH;FMTTYPE=image/jpeg:https://aquatiquemc.fr/wp-content/uploads/2025/02/salon-arpajon1.jpg
END:VEVENT
END:VCALENDAR