BEGIN:VCALENDAR
VERSION:2.0
PRODID:-//Aquatique Moto-Club - ECPv6.15.20//NONSGML v1.0//EN
CALSCALE:GREGORIAN
METHOD:PUBLISH
X-WR-CALNAME:Aquatique Moto-Club
X-ORIGINAL-URL:https://aquatiquemc.fr
X-WR-CALDESC:Évènements pour Aquatique Moto-Club
REFRESH-INTERVAL;VALUE=DURATION:PT1H
X-Robots-Tag:noindex
X-PUBLISHED-TTL:PT1H
BEGIN:VTIMEZONE
TZID:Europe/Paris
BEGIN:DAYLIGHT
TZOFFSETFROM:+0100
TZOFFSETTO:+0200
TZNAME:CEST
DTSTART:20240331T010000
END:DAYLIGHT
BEGIN:STANDARD
TZOFFSETFROM:+0200
TZOFFSETTO:+0100
TZNAME:CET
DTSTART:20241027T010000
END:STANDARD
BEGIN:DAYLIGHT
TZOFFSETFROM:+0100
TZOFFSETTO:+0200
TZNAME:CEST
DTSTART:20250330T010000
END:DAYLIGHT
BEGIN:STANDARD
TZOFFSETFROM:+0200
TZOFFSETTO:+0100
TZNAME:CET
DTSTART:20251026T010000
END:STANDARD
BEGIN:DAYLIGHT
TZOFFSETFROM:+0100
TZOFFSETTO:+0200
TZNAME:CEST
DTSTART:20260329T010000
END:DAYLIGHT
BEGIN:STANDARD
TZOFFSETFROM:+0200
TZOFFSETTO:+0100
TZNAME:CET
DTSTART:20261025T010000
END:STANDARD
END:VTIMEZONE
BEGIN:VEVENT
DTSTART;TZID=Europe/Paris:20251018T143000
DTEND;TZID=Europe/Paris:20251018T200000
DTSTAMP:20260422T104900
CREATED:20250902T165818Z
LAST-MODIFIED:20250914T191939Z
UID:240646-1760797800-1760817600@aquatiquemc.fr
SUMMARY:Atelier numérique multi sujets
DESCRIPTION:Atelier dédié à l’utilisation des GPS sur mobiles ou GPS toutes marques\, aux applications mobile telles que Liberty Rider\, TomTom BMW Garmin etc… \nOn a déjà vu comment créer des GPX\, là on verra comment les utiliser dans nos différents appareils. \nUtilisation du site du club: Abonnement calendrier; abonnement mailling list etc… \nFormation à la prise de photos\, retouche\, édition\, etc…
URL:https://aquatiquemc.fr/event/atelier-numerique-gps/
LOCATION:salle des conférences George BRASSENS\, monthlery\, France
CATEGORIES:2025,Atelier,Soirée
ATTACH;FMTTYPE=image/jpeg:https://aquatiquemc.fr/wp-content/uploads/2025/09/Design-sans-titre.jpg
END:VEVENT
END:VCALENDAR